BEGIN:VCALENDAR
VERSION:2.0
PRODID:-//Montgomery Chamber of Commerce - ECPv6.15.20//NONSGML v1.0//EN
CALSCALE:GREGORIAN
METHOD:PUBLISH
X-WR-CALNAME:Montgomery Chamber of Commerce
X-ORIGINAL-URL:https://montgomerymnchamber.com
X-WR-CALDESC:Events for Montgomery Chamber of Commerce
REFRESH-INTERVAL;VALUE=DURATION:PT1H
X-Robots-Tag:noindex
X-PUBLISHED-TTL:PT1H
BEGIN:VTIMEZONE
TZID:America/Chicago
BEGIN:DAYLIGHT
TZOFFSETFROM:-0600
TZOFFSETTO:-0500
TZNAME:CDT
DTSTART:20250309T080000
END:DAYLIGHT
BEGIN:STANDARD
TZOFFSETFROM:-0500
TZOFFSETTO:-0600
TZNAME:CST
DTSTART:20251102T070000
END:STANDARD
BEGIN:DAYLIGHT
TZOFFSETFROM:-0600
TZOFFSETTO:-0500
TZNAME:CDT
DTSTART:20260308T080000
END:DAYLIGHT
BEGIN:STANDARD
TZOFFSETFROM:-0500
TZOFFSETTO:-0600
TZNAME:CST
DTSTART:20261101T070000
END:STANDARD
BEGIN:DAYLIGHT
TZOFFSETFROM:-0600
TZOFFSETTO:-0500
TZNAME:CDT
DTSTART:20270314T080000
END:DAYLIGHT
BEGIN:STANDARD
TZOFFSETFROM:-0500
TZOFFSETTO:-0600
TZNAME:CST
DTSTART:20271107T070000
END:STANDARD
END:VTIMEZONE
BEGIN:VEVENT
DTSTART;TZID=America/Chicago:20260915T160000
DTEND;TZID=America/Chicago:20260915T190000
DTSTAMP:20260423T185717
CREATED:20250525T172534Z
LAST-MODIFIED:20260302T121153Z
UID:7413-1789488000-1789498800@montgomerymnchamber.com
SUMMARY:Montgomery Classic Car Roll-In
DESCRIPTION:Join us for the Classic Car Roll-In series! Our Car Roll-Ins are fun for all types of classic car lovers\, and especially those who enjoy a smaller\, more community-focused event. Boogieland Entertainment gets Montgomery’s main street rockin’\, and local bars\, restaurants\, and food trucks feature great deals and incredible food. There is no cost to attend. Bring your classic car or just come to look at the beauties. \nCome anytime from 4-7pm on the third Tuesday of the Month: May 19\, June 16\, July 21\, August 18\, and September 15. \nNew for 2026 – more prizes\, special theme nights\, and a BONUS EVENT ON OCTOBER 3 – one last hurrah for the season! \nFollow us on Facebook to get event updates.
URL:https://montgomerymnchamber.com/event/montgomery-classic-car-roll-in-5/
LOCATION:1st Street\, 1st Street (Main Street)\, Montgomery\, Minnesota\, 56069
END:VEVENT
BEGIN:VEVENT
DTSTART;TZID=America/Chicago:20261003T120000
DTEND;TZID=America/Chicago:20261003T160000
DTSTAMP:20260423T185717
CREATED:20250525T172619Z
LAST-MODIFIED:20260302T121503Z
UID:7415-1791028800-1791043200@montgomerymnchamber.com
SUMMARY:Montgomery Classic Car Roll-In
DESCRIPTION:Join us for the Classic Car Roll-In series! Our Car Roll-Ins are fun for all types of classic car lovers\, and especially those who enjoy a smaller\, more community-focused event. Boogieland Entertainment gets Montgomery’s main street rockin’\, and local bars\, restaurants\, and food trucks feature great deals and incredible food. There is no cost to attend. Bring your classic car or just come to look at the beauties. \nCome anytime from 4-7pm on the third Tuesday of the Month: May 19\, June 16\, July 21\, August 18\, and September 15. \nNew for 2026 – more prizes\, special theme nights\, and a BONUS EVENT ON OCTOBER 3 – one last hurrah for the season! \nFollow us on Facebook to get event updates.
URL:https://montgomerymnchamber.com/event/montgomery-classic-car-roll-in-6/
LOCATION:1st Street\, 1st Street (Main Street)\, Montgomery\, Minnesota\, 56069
END:VEVENT
BEGIN:VEVENT
DTSTART;TZID=America/Chicago:20261029T163000
DTEND;TZID=America/Chicago:20261029T183000
DTSTAMP:20260423T185717
CREATED:20251019T200331Z
LAST-MODIFIED:20260302T122037Z
UID:7488-1793291400-1793298600@montgomerymnchamber.com
SUMMARY:Monster Mash on Main
DESCRIPTION:The Montgomery Chamber of Commerce invites you to participate in our upcoming Monster Mash on Main — a community trick-or-treating event on Thursday\, October 29\, 2025\, from 4:30–6:30 pm in downtown Montgomery. \nFun activities include music\, kids activities\, photo opportunities\, and of course\, trick-or-treating. Stay tuned for more details.
URL:https://montgomerymnchamber.com/event/monster-mash-on-main/
LOCATION:1st Street\, 1st Street (Main Street)\, Montgomery\, Minnesota\, 56069
END:VEVENT
END:VCALENDAR