BEGIN:VCALENDAR
VERSION:2.0
PRODID:-//Montgomery Chamber of Commerce - ECPv6.15.20//NONSGML v1.0//EN
CALSCALE:GREGORIAN
METHOD:PUBLISH
X-WR-CALNAME:Montgomery Chamber of Commerce
X-ORIGINAL-URL:https://montgomerymnchamber.com
X-WR-CALDESC:Events for Montgomery Chamber of Commerce
REFRESH-INTERVAL;VALUE=DURATION:PT1H
X-Robots-Tag:noindex
X-PUBLISHED-TTL:PT1H
BEGIN:VTIMEZONE
TZID:America/Chicago
BEGIN:DAYLIGHT
TZOFFSETFROM:-0600
TZOFFSETTO:-0500
TZNAME:CDT
DTSTART:20240310T080000
END:DAYLIGHT
BEGIN:STANDARD
TZOFFSETFROM:-0500
TZOFFSETTO:-0600
TZNAME:CST
DTSTART:20241103T070000
END:STANDARD
BEGIN:DAYLIGHT
TZOFFSETFROM:-0600
TZOFFSETTO:-0500
TZNAME:CDT
DTSTART:20250309T080000
END:DAYLIGHT
BEGIN:STANDARD
TZOFFSETFROM:-0500
TZOFFSETTO:-0600
TZNAME:CST
DTSTART:20251102T070000
END:STANDARD
BEGIN:DAYLIGHT
TZOFFSETFROM:-0600
TZOFFSETTO:-0500
TZNAME:CDT
DTSTART:20260308T080000
END:DAYLIGHT
BEGIN:STANDARD
TZOFFSETFROM:-0500
TZOFFSETTO:-0600
TZNAME:CST
DTSTART:20261101T070000
END:STANDARD
BEGIN:DAYLIGHT
TZOFFSETFROM:-0600
TZOFFSETTO:-0500
TZNAME:CDT
DTSTART:20270314T080000
END:DAYLIGHT
BEGIN:STANDARD
TZOFFSETFROM:-0500
TZOFFSETTO:-0600
TZNAME:CST
DTSTART:20271107T070000
END:STANDARD
END:VTIMEZONE
BEGIN:VEVENT
DTSTART;TZID=America/Chicago:20260402T120000
DTEND;TZID=America/Chicago:20260402T133000
DTSTAMP:20260423T135423
CREATED:20260302T114648Z
LAST-MODIFIED:20260302T114650Z
UID:7639-1775131200-1775136600@montgomerymnchamber.com
SUMMARY:State of the Community
DESCRIPTION:  \n \nSave the date for the State of the Community 2026. Stay informed about what is happening in our community. Guest speakers include Kevin Babcock\, Superintendent of Tri-City United\, and Tom Eisert\, Mayor Montgomery. \nEvent hosted by the Montgomery Chamber and Montgomery Community Foundation. \nRegister here by March 30.
URL:https://montgomerymnchamber.com/event/state-of-the-community/
LOCATION:Location TBD
ATTACH;FMTTYPE=image/png:https://montgomerymnchamber.com/wp-content/uploads/2026/03/State-of-the-Community.png
END:VEVENT
BEGIN:VEVENT
DTSTART;TZID=America/Chicago:20260320T190000
DTEND;TZID=America/Chicago:20260320T210000
DTSTAMP:20260423T135423
CREATED:20260301T235504Z
LAST-MODIFIED:20260302T113144Z
UID:7573-1774033200-1774040400@montgomerymnchamber.com
SUMMARY:Sip into Spring
DESCRIPTION:Get tickets at https://events.ticketleap.com/tickets/montgomery-chamber-of-commerce/montgomery-s-sip-into-spring
URL:https://montgomerymnchamber.com/event/sip-into-spring/
LOCATION:Next Chapter Winery\, 16945 320th St\, Montgomery\, MN\, 56071\, United States
ATTACH;FMTTYPE=image/png:https://montgomerymnchamber.com/wp-content/uploads/2026/03/SIp-Ad.png
END:VEVENT
BEGIN:VEVENT
DTSTART;TZID=America/Chicago:20260318T083000
DTEND;TZID=America/Chicago:20260318T091500
DTSTAMP:20260423T135423
CREATED:20260302T114950Z
LAST-MODIFIED:20260302T115032Z
UID:7642-1773822600-1773825300@montgomerymnchamber.com
SUMMARY:Chamber 101
DESCRIPTION:Are you a new member? A long-time member who wants a refresher? Or considering joining the Montgomery Chamber?\nJoin us for Chamber 101!\n\nThis free info session will help you:-Understand all the benefits of Chamber membership-Learn how to increase visibility for your business-Discover networking and marketing opportunities-Ask questions and connect with fellow members\n\nOpen to current and prospective members
URL:https://montgomerymnchamber.com/event/chamber-101/
LOCATION:Montgomery Police Department\, 301 Boulevard Ave NW\, Montgomery\, MN\, 56069\, United States
END:VEVENT
BEGIN:VEVENT
DTSTART;TZID=America/Chicago:20260312T073000
DTEND;TZID=America/Chicago:20260312T083000
DTSTAMP:20260423T135423
CREATED:20260302T113358Z
LAST-MODIFIED:20260302T113501Z
UID:7632-1773300600-1773304200@montgomerymnchamber.com
SUMMARY:Chamber Coffee Connection
DESCRIPTION:Join us for the Chamber Coffee Connection. This informal networking event is open to all current and prospective members. Grab a cup of coffee and connect with other business and community leaders.
URL:https://montgomerymnchamber.com/event/chamber-coffee-connection/
LOCATION:LaNette’s Coffee Shop\, 225 1st St. S\, Montgomery\, MN\, 56069\, United States
END:VEVENT
BEGIN:VEVENT
DTSTART;TZID=America/Chicago:20250527T160000
DTEND;TZID=America/Chicago:20250527T190000
DTSTAMP:20260423T135423
CREATED:20250525T170015Z
LAST-MODIFIED:20250525T172040Z
UID:7195-1748361600-1748372400@montgomerymnchamber.com
SUMMARY:Montgomery Classic Car Roll-In
DESCRIPTION:Come to Main Street Montgomery to view classic cars\, listen to music from Boogieland Entertainment\, and enjoy food & drink specials from local establishments. This free event is open to the public. Bring your classic car and park along Montgomery’s historic First Street\, or just attend to enjoy the entertainment and walk the street. \nJoin us from 4-7pm on the third Tuesday of the month through October: May 27 (rescheduled date)\, June 17\, July 15\, August 29\, September 16\, and October 21. \nThank you to our generous sponsors: \n\nGold sponsors: Mind of Mo Photography\, Montgomery Family Dental\, Montgomery Knights of Columbus and Todd’s Auto Parts.\nSilver sponsors: House of Insurance Agency and Schoenbauer Funeral Homes\nBronze sponsors: Chicka Chicka Broom\, Frandsen Bank & Trust\, Hair Haven by Tiff\, Harmon Agency & Associates\, Herrmann Drug\, LaNette’s Coffee Shop\, Mane Style Suites\, Miller Real Estate\, Monty Auto Wash\, Pizzeria 201\, Shear Madness with Nikki\, Southern Bridge Tattoo\, Taco Terco\, and White Front.\n\nFollow us on Facebook to get event updates.
URL:https://montgomerymnchamber.com/event/montgomery-classic-car-roll-in-3/
LOCATION:Montgomery\, MN
END:VEVENT
END:VCALENDAR