BEGIN:VCALENDAR
VERSION:2.0
PRODID:-//Montgomery Chamber of Commerce - ECPv6.15.20//NONSGML v1.0//EN
CALSCALE:GREGORIAN
METHOD:PUBLISH
X-WR-CALNAME:Montgomery Chamber of Commerce
X-ORIGINAL-URL:https://montgomerymnchamber.com
X-WR-CALDESC:Events for Montgomery Chamber of Commerce
REFRESH-INTERVAL;VALUE=DURATION:PT1H
X-Robots-Tag:noindex
X-PUBLISHED-TTL:PT1H
BEGIN:VTIMEZONE
TZID:America/Chicago
BEGIN:DAYLIGHT
TZOFFSETFROM:-0600
TZOFFSETTO:-0500
TZNAME:CDT
DTSTART:20250309T080000
END:DAYLIGHT
BEGIN:STANDARD
TZOFFSETFROM:-0500
TZOFFSETTO:-0600
TZNAME:CST
DTSTART:20251102T070000
END:STANDARD
BEGIN:DAYLIGHT
TZOFFSETFROM:-0600
TZOFFSETTO:-0500
TZNAME:CDT
DTSTART:20260308T080000
END:DAYLIGHT
BEGIN:STANDARD
TZOFFSETFROM:-0500
TZOFFSETTO:-0600
TZNAME:CST
DTSTART:20261101T070000
END:STANDARD
BEGIN:DAYLIGHT
TZOFFSETFROM:-0600
TZOFFSETTO:-0500
TZNAME:CDT
DTSTART:20270314T080000
END:DAYLIGHT
BEGIN:STANDARD
TZOFFSETFROM:-0500
TZOFFSETTO:-0600
TZNAME:CST
DTSTART:20271107T070000
END:STANDARD
END:VTIMEZONE
BEGIN:VEVENT
DTSTART;TZID=America/Chicago:20260416T073000
DTEND;TZID=America/Chicago:20260416T083000
DTSTAMP:20260423T075117
CREATED:20260302T113658Z
LAST-MODIFIED:20260302T113700Z
UID:7636-1776324600-1776328200@montgomerymnchamber.com
SUMMARY:Chamber Coffee Connection
DESCRIPTION:Join us for the Chamber Coffee Connection. This informal networking event is open to all current and prospective members. Grab a cup of coffee and connect with other business and community leaders.
URL:https://montgomerymnchamber.com/event/chamber-coffee-connection-2/
LOCATION:Location TBD
END:VEVENT
END:VCALENDAR