BEGIN:VCALENDAR
VERSION:2.0
PRODID:-//Montgomery Chamber of Commerce - ECPv6.15.20//NONSGML v1.0//EN
CALSCALE:GREGORIAN
METHOD:PUBLISH
X-WR-CALNAME:Montgomery Chamber of Commerce
X-ORIGINAL-URL:https://montgomerymnchamber.com
X-WR-CALDESC:Events for Montgomery Chamber of Commerce
REFRESH-INTERVAL;VALUE=DURATION:PT1H
X-Robots-Tag:noindex
X-PUBLISHED-TTL:PT1H
BEGIN:VTIMEZONE
TZID:America/Chicago
BEGIN:DAYLIGHT
TZOFFSETFROM:-0600
TZOFFSETTO:-0500
TZNAME:CDT
DTSTART:20250309T080000
END:DAYLIGHT
BEGIN:STANDARD
TZOFFSETFROM:-0500
TZOFFSETTO:-0600
TZNAME:CST
DTSTART:20251102T070000
END:STANDARD
BEGIN:DAYLIGHT
TZOFFSETFROM:-0600
TZOFFSETTO:-0500
TZNAME:CDT
DTSTART:20260308T080000
END:DAYLIGHT
BEGIN:STANDARD
TZOFFSETFROM:-0500
TZOFFSETTO:-0600
TZNAME:CST
DTSTART:20261101T070000
END:STANDARD
BEGIN:DAYLIGHT
TZOFFSETFROM:-0600
TZOFFSETTO:-0500
TZNAME:CDT
DTSTART:20270314T080000
END:DAYLIGHT
BEGIN:STANDARD
TZOFFSETFROM:-0500
TZOFFSETTO:-0600
TZNAME:CST
DTSTART:20271107T070000
END:STANDARD
END:VTIMEZONE
BEGIN:VEVENT
DTSTART;TZID=America/Chicago:20260318T083000
DTEND;TZID=America/Chicago:20260318T091500
DTSTAMP:20260424T165852
CREATED:20260302T114950Z
LAST-MODIFIED:20260302T115032Z
UID:7642-1773822600-1773825300@montgomerymnchamber.com
SUMMARY:Chamber 101
DESCRIPTION:Are you a new member? A long-time member who wants a refresher? Or considering joining the Montgomery Chamber?\nJoin us for Chamber 101!\n\nThis free info session will help you:-Understand all the benefits of Chamber membership-Learn how to increase visibility for your business-Discover networking and marketing opportunities-Ask questions and connect with fellow members\n\nOpen to current and prospective members
URL:https://montgomerymnchamber.com/event/chamber-101/
LOCATION:Montgomery Police Department\, 301 Boulevard Ave NW\, Montgomery\, MN\, 56069\, United States
END:VEVENT
END:VCALENDAR